Name | Last modified | Size | Description | |
---|---|---|---|---|
Parent Directory | - | |||
install-summary.dcf | 13-Apr-2023 00:06 | 265 | ||
install-out.txt | 13-Apr-2023 00:06 | 1.0K | ||
checksrc-summary.dcf | 13-Apr-2023 00:06 | 436 | ||
checksrc-out.txt | 13-Apr-2023 00:06 | 5.0K | ||
buildsrc-summary.dcf | 13-Apr-2023 00:06 | 421 | ||
buildsrc-out.txt | 13-Apr-2023 00:06 | 1.4K | ||
buildbin-summary.dcf | 13-Apr-2023 00:06 | 518 | ||
buildbin-out.txt | 13-Apr-2023 00:06 | 1.1K | ||