Name | Last modified | Size | Description | |
---|---|---|---|---|
Parent Directory | - | |||
checksrc-out.txt | 13-Apr-2023 00:06 | 4.1K | ||
buildbin-out.txt | 13-Apr-2023 00:06 | 3.3K | ||
install-out.txt | 13-Apr-2023 00:06 | 2.4K | ||
buildsrc-out.txt | 13-Apr-2023 00:06 | 878 | ||
buildbin-summary.dcf | 13-Apr-2023 00:06 | 579 | ||
checksrc-summary.dcf | 13-Apr-2023 00:06 | 476 | ||
buildsrc-summary.dcf | 13-Apr-2023 00:06 | 452 | ||
install-summary.dcf | 13-Apr-2023 00:06 | 286 | ||