Name | Last modified | Size | Description | |
---|---|---|---|---|
Parent Directory | - | |||
checksrc-out.txt | 13-Apr-2023 00:06 | 12K | ||
buildbin-out.txt | 13-Apr-2023 00:06 | 2.5K | ||
install-out.txt | 13-Apr-2023 00:06 | 1.6K | ||
buildsrc-out.txt | 13-Apr-2023 00:06 | 905 | ||
buildbin-summary.dcf | 13-Apr-2023 00:06 | 524 | ||
checksrc-summary.dcf | 13-Apr-2023 00:06 | 439 | ||
buildsrc-summary.dcf | 13-Apr-2023 00:06 | 424 | ||
install-summary.dcf | 13-Apr-2023 00:06 | 267 | ||