Name | Last modified | Size | Description | |
---|---|---|---|---|
Parent Directory | - | |||
install-summary.dcf | 13-Apr-2023 00:05 | 266 | ||
install-out.txt | 13-Apr-2023 00:05 | 5.7M | ||
checksrc-summary.dcf | 11-Apr-2023 00:05 | 442 | ||
checksrc-out.txt | 11-Apr-2023 00:05 | 25K | ||
buildsrc-summary.dcf | 13-Apr-2023 00:05 | 371 | ||
buildsrc-out.txt | 13-Apr-2023 00:05 | 687 | ||
buildbin-summary.dcf | 11-Apr-2023 00:05 | 507 | ||
buildbin-out.txt | 11-Apr-2023 00:05 | 5.7M | ||