Name | Last modified | Size | Description | |
---|---|---|---|---|
Parent Directory | - | |||
buildbin-out.txt | 08-Jul-2022 00:11 | 1.1K | ||
buildbin-summary.dcf | 08-Jul-2022 00:11 | 514 | ||
buildsrc-out.txt | 08-Jul-2022 00:11 | 910 | ||
buildsrc-summary.dcf | 08-Jul-2022 00:11 | 419 | ||
install-out.txt | 12-Jul-2022 00:06 | 1.0K | ||
install-summary.dcf | 12-Jul-2022 00:06 | 263 | ||