Name | Last modified | Size | Description | |
---|---|---|---|---|
Parent Directory | - | |||
install-summary.dcf | 13-Apr-2023 00:05 | 267 | ||
checksrc-summary.dcf | 13-Apr-2023 00:05 | 443 | ||
buildsrc-summary.dcf | 13-Apr-2023 00:05 | 449 | ||
buildbin-summary.dcf | 13-Apr-2023 00:05 | 510 | ||
buildsrc-out.txt | 13-Apr-2023 00:05 | 926 | ||
checksrc-out.txt | 13-Apr-2023 00:05 | 8.6K | ||
install-out.txt | 13-Apr-2023 00:05 | 18K | ||
buildbin-out.txt | 13-Apr-2023 00:05 | 18K | ||