Name | Last modified | Size | Description | |
---|---|---|---|---|
Parent Directory | - | |||
buildbin-out.txt | 13-Apr-2023 00:06 | 17K | ||
buildbin-summary.dcf | 13-Apr-2023 00:06 | 524 | ||
buildsrc-out.txt | 13-Apr-2023 00:06 | 905 | ||
buildsrc-summary.dcf | 13-Apr-2023 00:06 | 425 | ||
checksrc-out.txt | 13-Apr-2023 00:06 | 8.8K | ||
checksrc-summary.dcf | 13-Apr-2023 00:06 | 440 | ||
install-out.txt | 13-Apr-2023 00:06 | 16K | ||
install-summary.dcf | 13-Apr-2023 00:06 | 268 | ||