Index of /checkResults/3.16/bioc-LATEST/scPCA/raw-results/kjohnson
Name
Last modified
Size
Description
Parent Directory
-
buildsrc-out.txt
08-Jul-2022 00:11
1.6K
buildsrc-summary.dcf
08-Jul-2022 00:11
340
install-out.txt
12-Jul-2022 00:06
1.1K
install-summary.dcf
12-Jul-2022 00:06
265