Index of /checkResults/3.16/bioc-LATEST/rsbml/raw-results
Name
Last modified
Size
Description
Parent Directory
-
nebbiolo2/
13-Apr-2023 00:05
-
info.dcf
13-Apr-2023 00:05
268
palomino4/
13-Apr-2023 00:05
-