![]() | Name | Last modified | Size | Description |
---|---|---|---|---|
![]() | Parent Directory | - | ||
![]() | install-out.txt | 13-Apr-2023 00:05 | 1.0K | |
![]() | install-summary.dcf | 13-Apr-2023 00:05 | 292 | |
![]() | buildsrc-out.txt | 13-Apr-2023 00:05 | 936 | |
![]() | buildsrc-summary.dcf | 13-Apr-2023 00:05 | 500 | |
![]() | checksrc-out.txt | 13-Apr-2023 00:05 | 3.3K | |
![]() | checksrc-summary.dcf | 13-Apr-2023 00:05 | 495 | |
![]() | buildbin-summary.dcf | 13-Apr-2023 00:05 | 585 | |
![]() | buildbin-out.txt | 13-Apr-2023 00:05 | 1.2K | |