Name | Last modified | Size | Description | |
---|---|---|---|---|
Parent Directory | - | |||
install-summary.dcf | 12-Jul-2022 00:06 | 277 | ||
buildsrc-summary.dcf | 08-Jul-2022 00:11 | 437 | ||
buildbin-summary.dcf | 08-Jul-2022 00:11 | 469 | ||
buildsrc-out.txt | 08-Jul-2022 00:11 | 862 | ||
install-out.txt | 12-Jul-2022 00:06 | 1.6K | ||
buildbin-out.txt | 08-Jul-2022 00:11 | 2.1K | ||