Name | Last modified | Size | Description | |
---|---|---|---|---|
Parent Directory | - | |||
install-summary.dcf | 13-Apr-2023 00:06 | 269 | ||
buildsrc-summary.dcf | 13-Apr-2023 00:06 | 426 | ||
checksrc-summary.dcf | 13-Apr-2023 00:06 | 441 | ||
buildbin-summary.dcf | 13-Apr-2023 00:06 | 527 | ||
buildsrc-out.txt | 13-Apr-2023 00:06 | 845 | ||
checksrc-out.txt | 13-Apr-2023 00:06 | 4.1K | ||
install-out.txt | 13-Apr-2023 00:06 | 19K | ||
buildbin-out.txt | 13-Apr-2023 00:06 | 20K | ||