Name | Last modified | Size | Description | |
---|---|---|---|---|
Parent Directory | - | |||
buildsrc-summary.dcf | 13-Apr-2023 00:05 | 370 | ||
buildsrc-out.txt | 13-Apr-2023 00:05 | 1.2K | ||
install-summary.dcf | 13-Apr-2023 00:05 | 269 | ||
install-out.txt | 13-Apr-2023 00:05 | 1.0K | ||
buildbin-summary.dcf | 20-Jan-2023 01:07 | 518 | ||
buildbin-out.txt | 20-Jan-2023 01:07 | 1.1K | ||
checksrc-out.txt | 20-Jan-2023 01:07 | 3.5K | ||
checksrc-summary.dcf | 20-Jan-2023 01:07 | 449 | ||