Name | Last modified | Size | Description | |
---|---|---|---|---|
Parent Directory | - | |||
buildbin-out.txt | 13-Apr-2023 00:06 | 1.2K | ||
buildbin-summary.dcf | 13-Apr-2023 00:06 | 533 | ||
buildsrc-out.txt | 13-Apr-2023 00:06 | 859 | ||
buildsrc-summary.dcf | 13-Apr-2023 00:06 | 429 | ||
checksrc-out.txt | 13-Apr-2023 00:06 | 8.2K | ||
checksrc-summary.dcf | 13-Apr-2023 00:06 | 450 | ||
install-out.txt | 13-Apr-2023 00:06 | 1.0K | ||
install-summary.dcf | 13-Apr-2023 00:06 | 270 | ||