![]() | Name | Last modified | Size | Description |
---|---|---|---|---|
![]() | Parent Directory | - | ||
![]() | buildbin-out.txt | 13-Apr-2023 00:06 | 2.5K | |
![]() | buildbin-summary.dcf | 13-Apr-2023 00:06 | 524 | |
![]() | buildsrc-out.txt | 13-Apr-2023 00:06 | 842 | |
![]() | buildsrc-summary.dcf | 13-Apr-2023 00:06 | 425 | |
![]() | checksrc-out.txt | 13-Apr-2023 00:06 | 3.2K | |
![]() | checksrc-summary.dcf | 13-Apr-2023 00:06 | 440 | |
![]() | install-out.txt | 13-Apr-2023 00:06 | 1.6K | |
![]() | install-summary.dcf | 13-Apr-2023 00:06 | 267 | |