Index of /checkResults/3.16/bioc-LATEST/rCGH/raw-results/kjohnson
Name
Last modified
Size
Description
Parent Directory
-
install-summary.dcf
12-Jul-2022 00:06
265
install-out.txt
12-Jul-2022 00:06
818
buildsrc-summary.dcf
08-Jul-2022 00:11
336
buildsrc-out.txt
08-Jul-2022 00:11
1.0K