Name | Last modified | Size | Description | |
---|---|---|---|---|
Parent Directory | - | |||
buildbin-out.txt | 13-Apr-2023 00:06 | 5.0K | ||
checksrc-out.txt | 13-Apr-2023 00:06 | 3.8K | ||
install-out.txt | 13-Apr-2023 00:06 | 3.8K | ||
buildsrc-out.txt | 13-Apr-2023 00:06 | 894 | ||
buildbin-summary.dcf | 13-Apr-2023 00:06 | 530 | ||
checksrc-summary.dcf | 13-Apr-2023 00:06 | 444 | ||
buildsrc-summary.dcf | 13-Apr-2023 00:06 | 426 | ||
install-summary.dcf | 13-Apr-2023 00:06 | 269 | ||