Index of /checkResults/3.16/bioc-LATEST/ptairMS/raw-results/kjohnson
Name
Last modified
Size
Description
Parent Directory
-
install-out.txt
12-Jul-2022 00:06
2.6K
buildsrc-out.txt
08-Jul-2022 00:11
904
buildsrc-summary.dcf
08-Jul-2022 00:11
341
install-summary.dcf
12-Jul-2022 00:06
268