Name | Last modified | Size | Description | |
---|---|---|---|---|
Parent Directory | - | |||
buildbin-out.txt | 13-Apr-2023 00:05 | 2.6K | ||
buildbin-summary.dcf | 13-Apr-2023 00:05 | 534 | ||
buildsrc-out.txt | 13-Apr-2023 00:05 | 923 | ||
buildsrc-summary.dcf | 13-Apr-2023 00:05 | 465 | ||
checksrc-out.txt | 13-Apr-2023 00:05 | 4.2K | ||
checksrc-summary.dcf | 13-Apr-2023 00:05 | 459 | ||
install-out.txt | 13-Apr-2023 00:05 | 2.5K | ||
install-summary.dcf | 13-Apr-2023 00:05 | 275 | ||