Name | Last modified | Size | Description | |
---|---|---|---|---|
Parent Directory | - | |||
install-summary.dcf | 13-Apr-2023 00:06 | 275 | ||
install-out.txt | 13-Apr-2023 00:06 | 2.7K | ||
checksrc-summary.dcf | 11-Apr-2023 00:06 | 456 | ||
checksrc-out.txt | 11-Apr-2023 00:06 | 3.7K | ||
buildsrc-summary.dcf | 13-Apr-2023 00:06 | 350 | ||
buildsrc-out.txt | 13-Apr-2023 00:06 | 1.4K | ||
buildbin-summary.dcf | 11-Apr-2023 00:06 | 549 | ||
buildbin-out.txt | 11-Apr-2023 00:06 | 3.6K | ||