Name | Last modified | Size | Description | |
---|---|---|---|---|
Parent Directory | - | |||
buildbin-out.txt | 13-Apr-2023 00:05 | 2.4K | ||
buildbin-summary.dcf | 13-Apr-2023 00:05 | 569 | ||
buildsrc-out.txt | 13-Apr-2023 00:05 | 916 | ||
buildsrc-summary.dcf | 13-Apr-2023 00:05 | 488 | ||
checksrc-out.txt | 13-Apr-2023 00:05 | 3.9K | ||
checksrc-summary.dcf | 13-Apr-2023 00:05 | 482 | ||
install-out.txt | 13-Apr-2023 00:05 | 2.2K | ||
install-summary.dcf | 13-Apr-2023 00:05 | 286 | ||