Index of /checkResults/3.16/bioc-LATEST/profileScoreDist/raw-results/kjohnson
Name
Last modified
Size
Description
Parent Directory
-
install-summary.dcf
12-Jul-2022 00:06
287
buildsrc-summary.dcf
08-Jul-2022 00:11
361
buildsrc-out.txt
08-Jul-2022 00:11
1.3K
install-out.txt
12-Jul-2022 00:06
2.5K