Index of /checkResults/3.16/bioc-LATEST/panp/raw-results/kjohnson
Name
Last modified
Size
Description
Parent Directory
-
install-out.txt
12-Jul-2022 00:06
1.0K
buildsrc-out.txt
08-Jul-2022 00:11
873
buildsrc-summary.dcf
08-Jul-2022 00:11
336
install-summary.dcf
12-Jul-2022 00:06
262