Name | Last modified | Size | Description | |
---|---|---|---|---|
Parent Directory | - | |||
buildbin-out.txt | 13-Apr-2023 00:05 | 1.1K | ||
buildbin-summary.dcf | 13-Apr-2023 00:05 | 545 | ||
buildsrc-out.txt | 13-Apr-2023 00:05 | 1.1K | ||
buildsrc-summary.dcf | 13-Apr-2023 00:05 | 472 | ||
checksrc-out.txt | 13-Apr-2023 00:05 | 3.2K | ||
checksrc-summary.dcf | 13-Apr-2023 00:05 | 467 | ||
install-out.txt | 13-Apr-2023 00:05 | 1.0K | ||
install-summary.dcf | 13-Apr-2023 00:05 | 278 | ||