Name | Last modified | Size | Description | |
---|---|---|---|---|
Parent Directory | - | |||
checksrc-out.txt | 13-Apr-2023 00:05 | 4.4K | ||
install-out.txt | 13-Apr-2023 00:05 | 956 | ||
buildsrc-out.txt | 13-Apr-2023 00:05 | 862 | ||
checksrc-summary.dcf | 13-Apr-2023 00:05 | 430 | ||
buildsrc-summary.dcf | 13-Apr-2023 00:05 | 430 | ||
install-summary.dcf | 13-Apr-2023 00:05 | 267 | ||