Name | Last modified | Size | Description | |
---|---|---|---|---|
Parent Directory | - | |||
buildbin-out.txt | 13-Apr-2023 00:06 | 1.2K | ||
buildbin-summary.dcf | 13-Apr-2023 00:06 | 553 | ||
buildsrc-out.txt | 13-Apr-2023 00:06 | 872 | ||
buildsrc-summary.dcf | 13-Apr-2023 00:06 | 440 | ||
checksrc-out.txt | 13-Apr-2023 00:06 | 4.3K | ||
checksrc-summary.dcf | 13-Apr-2023 00:06 | 460 | ||
install-out.txt | 13-Apr-2023 00:06 | 1.0K | ||
install-summary.dcf | 13-Apr-2023 00:06 | 277 | ||