Name | Last modified | Size | Description | |
---|---|---|---|---|
Parent Directory | - | |||
buildsrc-out.txt | 13-Apr-2023 00:05 | 860 | ||
buildsrc-summary.dcf | 13-Apr-2023 00:05 | 410 | ||
checksrc-out.txt | 13-Apr-2023 00:05 | 4.5K | ||
checksrc-summary.dcf | 13-Apr-2023 00:05 | 405 | ||
install-out.txt | 13-Apr-2023 00:05 | 954 | ||
install-summary.dcf | 13-Apr-2023 00:05 | 254 | ||