![]() | Name | Last modified | Size | Description |
---|---|---|---|---|
![]() | Parent Directory | - | ||
![]() | install-summary.dcf | 13-Apr-2023 00:05 | 259 | |
![]() | install-out.txt | 13-Apr-2023 00:05 | 1.0K | |
![]() | checksrc-summary.dcf | 13-Apr-2023 00:05 | 417 | |
![]() | checksrc-out.txt | 13-Apr-2023 00:05 | 1.4K | |
![]() | buildsrc-summary.dcf | 13-Apr-2023 00:05 | 418 | |
![]() | buildsrc-out.txt | 13-Apr-2023 00:05 | 806 | |