Name | Last modified | Size | Description | |
---|---|---|---|---|
Parent Directory | - | |||
install-summary.dcf | 13-Apr-2023 00:05 | 269 | ||
buildsrc-summary.dcf | 13-Apr-2023 00:05 | 370 | ||
checksrc-summary.dcf | 21-Mar-2023 00:05 | 453 | ||
buildbin-summary.dcf | 21-Mar-2023 00:05 | 518 | ||
install-out.txt | 13-Apr-2023 00:05 | 1.0K | ||
buildsrc-out.txt | 13-Apr-2023 00:05 | 1.0K | ||
buildbin-out.txt | 21-Mar-2023 00:05 | 1.1K | ||
checksrc-out.txt | 21-Mar-2023 00:05 | 6.1K | ||