Name | Last modified | Size | Description | |
---|---|---|---|---|
Parent Directory | - | |||
install-out.txt | 13-Apr-2023 00:06 | 164K | ||
install-summary.dcf | 13-Apr-2023 00:06 | 267 | ||
buildsrc-out.txt | 13-Apr-2023 00:06 | 842 | ||
buildsrc-summary.dcf | 13-Apr-2023 00:06 | 422 | ||
checksrc-out.txt | 13-Apr-2023 00:06 | 4.7K | ||
checksrc-summary.dcf | 13-Apr-2023 00:06 | 445 | ||
buildbin-summary.dcf | 13-Apr-2023 00:06 | 524 | ||
buildbin-out.txt | 13-Apr-2023 00:06 | 165K | ||