Name | Last modified | Size | Description | |
---|---|---|---|---|
Parent Directory | - | |||
install-summary.dcf | 12-Jul-2022 00:06 | 267 | ||
buildsrc-summary.dcf | 08-Jul-2022 00:11 | 422 | ||
buildbin-summary.dcf | 08-Jul-2022 00:11 | 445 | ||
buildsrc-out.txt | 08-Jul-2022 00:11 | 842 | ||
install-out.txt | 12-Jul-2022 00:06 | 165K | ||
buildbin-out.txt | 08-Jul-2022 00:11 | 165K | ||