Name | Last modified | Size | Description | |
---|---|---|---|---|
Parent Directory | - | |||
install-summary.dcf | 12-Jul-2022 00:06 | 272 | ||
install-out.txt | 12-Jul-2022 00:06 | 1.8K | ||
buildbin-summary.dcf | 08-Jul-2022 00:11 | 459 | ||
buildbin-out.txt | 08-Jul-2022 00:11 | 2.2K | ||
buildsrc-summary.dcf | 08-Jul-2022 00:11 | 433 | ||
buildsrc-out.txt | 08-Jul-2022 00:11 | 917 | ||