Index of /checkResults/3.16/bioc-LATEST/multiMiR/raw-results/kjohnson
Name
Last modified
Size
Description
Parent Directory
-
install-summary.dcf
12-Jul-2022 00:06
271
buildsrc-summary.dcf
08-Jul-2022 00:11
345
install-out.txt
12-Jul-2022 00:06
1.0K
buildsrc-out.txt
08-Jul-2022 00:11
1.0K