Name | Last modified | Size | Description | |
---|---|---|---|---|
Parent Directory | - | |||
buildbin-out.txt | 13-Apr-2023 00:06 | 1.5K | ||
buildbin-summary.dcf | 13-Apr-2023 00:06 | 524 | ||
buildsrc-out.txt | 13-Apr-2023 00:06 | 1.2K | ||
buildsrc-summary.dcf | 13-Apr-2023 00:06 | 425 | ||
checksrc-out.txt | 13-Apr-2023 00:06 | 3.4K | ||
checksrc-summary.dcf | 13-Apr-2023 00:06 | 440 | ||
install-out.txt | 13-Apr-2023 00:06 | 1.3K | ||
install-summary.dcf | 13-Apr-2023 00:06 | 267 | ||