Name | Last modified | Size | Description | |
---|---|---|---|---|
Parent Directory | - | |||
install-summary.dcf | 12-Jul-2022 00:06 | 267 | ||
install-out.txt | 12-Jul-2022 00:06 | 1.0K | ||
buildsrc-summary.dcf | 08-Jul-2022 00:11 | 422 | ||
buildsrc-out.txt | 08-Jul-2022 00:11 | 851 | ||
buildbin-summary.dcf | 08-Jul-2022 00:11 | 521 | ||
buildbin-out.txt | 08-Jul-2022 00:11 | 1.1K | ||