Name | Last modified | Size | Description | |
---|---|---|---|---|
Parent Directory | - | |||
install-summary.dcf | 13-Apr-2023 00:06 | 268 | ||
install-out.txt | 13-Apr-2023 00:06 | 1.0K | ||
checksrc-summary.dcf | 13-Apr-2023 00:06 | 449 | ||
checksrc-out.txt | 13-Apr-2023 00:06 | 3.6K | ||
buildsrc-summary.dcf | 13-Apr-2023 00:06 | 427 | ||
buildsrc-out.txt | 13-Apr-2023 00:06 | 879 | ||
buildbin-summary.dcf | 13-Apr-2023 00:06 | 529 | ||
buildbin-out.txt | 13-Apr-2023 00:06 | 1.2K | ||