Index of /checkResults/3.16/bioc-LATEST/miRNAmeConverter/raw-results/nebbiolo2

[ICO]NameLast modifiedSizeDescription

[DIR]Parent Directory  -  
[   ]install-summary.dcf13-Apr-2023 00:05 277  
[   ]buildsrc-summary.dcf13-Apr-2023 00:05 443  
[   ]checksrc-summary.dcf13-Apr-2023 00:05 456  
[TXT]buildsrc-out.txt13-Apr-2023 00:05 920  
[TXT]install-out.txt13-Apr-2023 00:05 1.2K 
[TXT]checksrc-out.txt13-Apr-2023 00:05 3.8K