Index of /checkResults/3.16/bioc-LATEST/miRNAmeConverter/raw-results/lconway

[ICO]NameLast modifiedSizeDescription

[DIR]Parent Directory  -  
[   ]install-summary.dcf13-Apr-2023 00:06 287  
[   ]buildsrc-summary.dcf13-Apr-2023 00:06 453  
[   ]checksrc-summary.dcf13-Apr-2023 00:06 486  
[   ]buildbin-summary.dcf13-Apr-2023 00:06 584  
[TXT]buildsrc-out.txt13-Apr-2023 00:06 930  
[TXT]install-out.txt13-Apr-2023 00:06 1.2K 
[TXT]buildbin-out.txt13-Apr-2023 00:06 1.5K 
[TXT]checksrc-out.txt13-Apr-2023 00:06 3.8K