![]() | Name | Last modified | Size | Description |
---|---|---|---|---|
![]() | Parent Directory | - | ||
![]() | install-out.txt | 13-Apr-2023 00:06 | 1.0K | |
![]() | install-summary.dcf | 13-Apr-2023 00:06 | 273 | |
![]() | buildsrc-out.txt | 13-Apr-2023 00:06 | 887 | |
![]() | buildsrc-summary.dcf | 13-Apr-2023 00:06 | 434 | |
![]() | checksrc-out.txt | 13-Apr-2023 00:06 | 17K | |
![]() | checksrc-summary.dcf | 13-Apr-2023 00:06 | 452 | |
![]() | buildbin-out.txt | 13-Apr-2023 00:06 | 1.2K | |
![]() | buildbin-summary.dcf | 13-Apr-2023 00:06 | 542 | |