Name | Last modified | Size | Description | |
---|---|---|---|---|
Parent Directory | - | |||
buildbin-summary.dcf | 13-Apr-2023 00:06 | 557 | ||
buildbin-out.txt | 13-Apr-2023 00:06 | 1.2K | ||
checksrc-summary.dcf | 13-Apr-2023 00:06 | 462 | ||
checksrc-out.txt | 13-Apr-2023 00:06 | 3.2K | ||
install-summary.dcf | 13-Apr-2023 00:06 | 278 | ||
install-out.txt | 13-Apr-2023 00:06 | 1.0K | ||
buildsrc-summary.dcf | 13-Apr-2023 00:06 | 440 | ||
buildsrc-out.txt | 13-Apr-2023 00:06 | 898 | ||