Name | Last modified | Size | Description | |
---|---|---|---|---|
Parent Directory | - | |||
buildbin-summary.dcf | 13-Apr-2023 00:06 | 552 | ||
buildbin-out.txt | 13-Apr-2023 00:06 | 6.0K | ||
checksrc-summary.dcf | 13-Apr-2023 00:06 | 458 | ||
checksrc-out.txt | 13-Apr-2023 00:06 | 7.4K | ||
buildsrc-summary.dcf | 13-Apr-2023 00:06 | 438 | ||
buildsrc-out.txt | 13-Apr-2023 00:06 | 924 | ||
install-summary.dcf | 13-Apr-2023 00:06 | 277 | ||
install-out.txt | 13-Apr-2023 00:06 | 5.1K | ||