Name | Last modified | Size | Description | |
---|---|---|---|---|
Parent Directory | - | |||
checksrc-out.txt | 13-Apr-2023 00:05 | 3.6K | ||
buildbin-out.txt | 13-Apr-2023 00:05 | 1.2K | ||
install-out.txt | 13-Apr-2023 00:05 | 1.0K | ||
buildsrc-out.txt | 13-Apr-2023 00:05 | 949 | ||
buildbin-summary.dcf | 13-Apr-2023 00:05 | 575 | ||
buildsrc-summary.dcf | 13-Apr-2023 00:05 | 492 | ||
checksrc-summary.dcf | 13-Apr-2023 00:05 | 487 | ||
install-summary.dcf | 13-Apr-2023 00:05 | 288 | ||