Index of /checkResults/3.16/bioc-LATEST/methrix/raw-results/kjohnson
Name
Last modified
Size
Description
Parent Directory
-
buildsrc-out.txt
08-Jul-2022 00:11
913
buildsrc-summary.dcf
08-Jul-2022 00:11
342
install-out.txt
12-Jul-2022 00:06
716
install-summary.dcf
12-Jul-2022 00:06
271