Index of /checkResults/3.16/bioc-LATEST/metagene2/raw-results/kjohnson
Name
Last modified
Size
Description
Parent Directory
-
buildsrc-out.txt
08-Jul-2022 00:11
904
buildsrc-summary.dcf
08-Jul-2022 00:11
346
install-out.txt
12-Jul-2022 00:06
703
install-summary.dcf
12-Jul-2022 00:06
275