Name | Last modified | Size | Description | |
---|---|---|---|---|
Parent Directory | - | |||
buildbin-summary.dcf | 13-Apr-2023 00:05 | 521 | ||
buildbin-out.txt | 13-Apr-2023 00:05 | 3.2K | ||
checksrc-summary.dcf | 13-Apr-2023 00:05 | 451 | ||
checksrc-out.txt | 13-Apr-2023 00:05 | 87K | ||
buildsrc-summary.dcf | 13-Apr-2023 00:05 | 457 | ||
buildsrc-out.txt | 13-Apr-2023 00:05 | 913 | ||
install-summary.dcf | 13-Apr-2023 00:05 | 270 | ||
install-out.txt | 13-Apr-2023 00:05 | 3.0K | ||