Name | Last modified | Size | Description | |
---|---|---|---|---|
Parent Directory | - | |||
buildsrc-out.txt | 13-Apr-2023 00:05 | 880 | ||
buildsrc-summary.dcf | 13-Apr-2023 00:05 | 421 | ||
checksrc-out.txt | 13-Apr-2023 00:05 | 90K | ||
checksrc-summary.dcf | 13-Apr-2023 00:05 | 418 | ||
install-out.txt | 13-Apr-2023 00:05 | 3.3K | ||
install-summary.dcf | 13-Apr-2023 00:05 | 261 | ||