Name | Last modified | Size | Description | |
---|---|---|---|---|
Parent Directory | - | |||
install-summary.dcf | 13-Apr-2023 00:05 | 255 | ||
install-out.txt | 13-Apr-2023 00:05 | 962 | ||
checksrc-summary.dcf | 13-Apr-2023 00:05 | 406 | ||
checksrc-out.txt | 13-Apr-2023 00:05 | 7.7K | ||
buildsrc-summary.dcf | 13-Apr-2023 00:05 | 411 | ||
buildsrc-out.txt | 13-Apr-2023 00:05 | 861 | ||