Name | Last modified | Size | Description | |
---|---|---|---|---|
Parent Directory | - | |||
install-summary.dcf | 13-Apr-2023 00:05 | 253 | ||
install-out.txt | 13-Apr-2023 00:05 | 1.2K | ||
checksrc-summary.dcf | 13-Apr-2023 00:05 | 408 | ||
checksrc-out.txt | 13-Apr-2023 00:05 | 3.6K | ||
buildsrc-summary.dcf | 13-Apr-2023 00:05 | 407 | ||
buildsrc-out.txt | 13-Apr-2023 00:05 | 785 | ||