Index of /checkResults/3.16/bioc-LATEST/interactiveDisplay/raw-results/kjohnson
Name
Last modified
Size
Description
Parent Directory
-
install-summary.dcf
12-Jul-2022 00:06
291
install-out.txt
12-Jul-2022 00:06
1.5K
buildsrc-summary.dcf
08-Jul-2022 00:11
364
buildsrc-out.txt
08-Jul-2022 00:11
946