Name | Last modified | Size | Description | |
---|---|---|---|---|
Parent Directory | - | |||
buildsrc-out.txt | 13-Apr-2023 00:05 | 888 | ||
buildsrc-summary.dcf | 13-Apr-2023 00:05 | 431 | ||
checksrc-out.txt | 13-Apr-2023 00:05 | 3.2K | ||
checksrc-summary.dcf | 13-Apr-2023 00:05 | 432 | ||
install-out.txt | 13-Apr-2023 00:05 | 1.0K | ||
install-summary.dcf | 13-Apr-2023 00:05 | 268 | ||